BEGIN:VCALENDAR
VERSION:2.0
PRODID:-//CONFEDERACIÓN SOLIDARIDAD OBRERA - ECPv6.15.20//NONSGML v1.0//EN
CALSCALE:GREGORIAN
METHOD:PUBLISH
X-WR-CALNAME:CONFEDERACIÓN SOLIDARIDAD OBRERA
X-ORIGINAL-URL:https://www.solidaridadobrera.org/confederal
X-WR-CALDESC:Eventos para CONFEDERACIÓN SOLIDARIDAD OBRERA
REFRESH-INTERVAL;VALUE=DURATION:PT1H
X-Robots-Tag:noindex
X-PUBLISHED-TTL:PT1H
BEGIN:VTIMEZONE
TZID:UTC
BEGIN:STANDARD
TZOFFSETFROM:+0000
TZOFFSETTO:+0000
TZNAME:UTC
DTSTART:20250101T000000
END:STANDARD
END:VTIMEZONE
BEGIN:VEVENT
DTSTART;TZID=UTC:20260501T113000
DTEND;TZID=UTC:20260501T133000
DTSTAMP:20260426T031428
CREATED:20260425T034503Z
LAST-MODIFIED:20260425T191239Z
UID:180932-1777635000-1777642200@www.solidaridadobrera.org
SUMMARY:1 de mayo
DESCRIPTION:
URL:https://www.solidaridadobrera.org/confederal/eventos/1-de-mayo/
LOCATION:Marqués de Vadillo\, Glorieta Marqués de Vadillo\, Madrid
CATEGORIES:Manifestación
ATTACH;FMTTYPE=image/jpeg:https://www.solidaridadobrera.org/confederal/wp-content/uploads/2026/04/IMG-20260424-WA0021-1.jpg
ORGANIZER;CN="Solidaridad Obrera":MAILTO:contacto@solidaridadobrera.org
END:VEVENT
END:VCALENDAR